BEGIN:VCALENDAR
VERSION:2.0
METHOD:PUBLISH
CALSCALE:GREGORIAN
PRODID:-//WordPress - MECv6.5.3//EN
X-ORIGINAL-URL:https://www.rr446.de/
X-WR-CALNAME:rr446
X-WR-CALDESC:
REFRESH-INTERVAL;VALUE=DURATION:PT1H
X-PUBLISHED-TTL:PT1H
X-MS-OLK-FORCEINSPECTOROPEN:TRUE
BEGIN:VEVENT
CLASS:PUBLIC
DTSTART;TZID=Europe/Berlin:20260109T163000
DTEND;TZID=Europe/Berlin:20260109T183000
DTSTAMP:20250912T105300
UID:MEC-82cadb0649a3af4968404c9f6031b233@rr446.de
CREATED:20250912
LAST-MODIFIED:20250912
PRIORITY:5
TRANSP:OPAQUE
SUMMARY:Stammtreff
DESCRIPTION:
URL:https://www.rr446.de/default_events/stammtreff-2/
END:VEVENT
BEGIN:VEVENT
CLASS:PUBLIC
DTSTART;TZID=Europe/Berlin:20251212T163000
DTEND;TZID=Europe/Berlin:20251213T103000
DTSTAMP:20250912T105300
UID:MEC-f45a1078feb35de77d26b3f7a52ef502@rr446.de
CREATED:20250912
LAST-MODIFIED:20250912
PRIORITY:5
TRANSP:OPAQUE
SUMMARY:Weihnachtsfeier
DESCRIPTION:
URL:https://www.rr446.de/default_events/weihnachtsfeier/
END:VEVENT
BEGIN:VEVENT
CLASS:PUBLIC
DTSTART;TZID=Europe/Berlin:20251206T000000
DTEND;TZID=Europe/Berlin:20251207T000000
DTSTAMP:20250912T000000
UID:MEC-59bcda7c438bad7d2afffe9e2fed00be@rr446.de
CREATED:20250912
LAST-MODIFIED:20250912
PRIORITY:5
TRANSP:OPAQUE
SUMMARY:Weihnachtsmarkt
DESCRIPTION:
URL:https://www.rr446.de/default_events/weihnachtsmarkt/
END:VEVENT
BEGIN:VEVENT
CLASS:PUBLIC
DTSTART;TZID=Europe/Berlin:20251128T163000
DTEND;TZID=Europe/Berlin:20251128T203000
DTSTAMP:20250912T105100
UID:MEC-06a15eb1c3836723b53e4abca8d9b879@rr446.de
CREATED:20250912
LAST-MODIFIED:20250912
PRIORITY:5
TRANSP:OPAQUE
SUMMARY:Spieleabend
DESCRIPTION:
URL:https://www.rr446.de/default_events/spieleabend/
END:VEVENT
BEGIN:VEVENT
CLASS:PUBLIC
DTSTART;TZID=Europe/Berlin:20251121T163000
DTEND;TZID=Europe/Berlin:20251121T183000
DTSTAMP:20250912T105100
UID:MEC-4888241374e8c62ddd9b4c3cfd091f96@rr446.de
CREATED:20250912
LAST-MODIFIED:20250912
PRIORITY:5
TRANSP:OPAQUE
SUMMARY:Teamtreff
DESCRIPTION:
URL:https://www.rr446.de/default_events/teamtreff-3/
END:VEVENT
BEGIN:VEVENT
CLASS:PUBLIC
DTSTART;TZID=Europe/Berlin:20251114T163000
DTEND;TZID=Europe/Berlin:20251114T183000
DTSTAMP:20250912T105100
UID:MEC-57c0531e13f40b91b3b0f1a30b529a1d@rr446.de
CREATED:20250912
LAST-MODIFIED:20250912
PRIORITY:5
TRANSP:OPAQUE
SUMMARY:Fackellauf
DESCRIPTION:
URL:https://www.rr446.de/default_events/fackellauf/
END:VEVENT
BEGIN:VEVENT
CLASS:PUBLIC
DTSTART;TZID=Europe/Berlin:20251107T163000
DTEND;TZID=Europe/Berlin:20251107T183000
DTSTAMP:20250912T105000
UID:MEC-e8dfff4676a47048d6f0c4ef899593dd@rr446.de
CREATED:20250912
LAST-MODIFIED:20250912
PRIORITY:5
TRANSP:OPAQUE
SUMMARY:Geländeaktion
DESCRIPTION:
URL:https://www.rr446.de/default_events/gelaendeaktion/
END:VEVENT
BEGIN:VEVENT
CLASS:PUBLIC
DTSTART;TZID=Europe/Berlin:20251010T163000
DTEND;TZID=Europe/Berlin:20251010T183000
DTSTAMP:20250912T105000
UID:MEC-201d7288b4c18a679e48b31c72c30ded@rr446.de
CREATED:20250912
LAST-MODIFIED:20250912
PRIORITY:5
TRANSP:OPAQUE
SUMMARY:Teamtreff
DESCRIPTION:
URL:https://www.rr446.de/default_events/teamtreff-2/
END:VEVENT
BEGIN:VEVENT
CLASS:PUBLIC
DTSTART;TZID=Europe/Berlin:20250926T163000
DTEND;TZID=Europe/Berlin:20250926T183000
DTSTAMP:20250912T104900
UID:MEC-d7657583058394c828ee150fada65345@rr446.de
CREATED:20250912
LAST-MODIFIED:20250912
PRIORITY:5
TRANSP:OPAQUE
SUMMARY:Stammtreff
DESCRIPTION:
URL:https://www.rr446.de/default_events/stammtreff/
END:VEVENT
BEGIN:VEVENT
CLASS:PUBLIC
DTSTART;TZID=Europe/Berlin:20250919T000000
DTEND;TZID=Europe/Berlin:20250922T000000
DTSTAMP:20250912T000000
UID:MEC-85f007f8c50dd25f5a45fca73cad64bd@rr446.de
CREATED:20250912
LAST-MODIFIED:20250912
PRIORITY:5
TRANSP:OPAQUE
SUMMARY:Hajk | 9-12 Jahre
DESCRIPTION:
URL:https://www.rr446.de/default_events/hajk-9-12-jahre/
END:VEVENT
BEGIN:VEVENT
CLASS:PUBLIC
DTSTART;TZID=Europe/Berlin:20250912T163000
DTEND;TZID=Europe/Berlin:20250912T183000
DTSTAMP:20250912T104800
UID:MEC-f26dab9bf6a137c3b6782e562794c2f2@rr446.de
CREATED:20250912
LAST-MODIFIED:20250912
PRIORITY:5
TRANSP:OPAQUE
SUMMARY:Teamtreff
DESCRIPTION:
URL:https://www.rr446.de/default_events/teamtreff/
END:VEVENT
END:VCALENDAR
